BEGIN:VCALENDAR
BEGIN:VEVENT
SUMMARY:Funeral notice for PAPWORTH\, Graeme Charles
DTSTART:20260424T000000
DTEND:20260425T000000
DTSTAMP:20260423T155141Z
UID:6354977
DESCRIPTION:For the Funeral time and location details\, please view the no
 tice on the My Tributes site. (https://www.yarrawongachronicle.com.au/trib
 utes/notice/funeral-notices/papworth-graeme-charles/6354977/)
END:VEVENT
END:VCALENDAR
