BEGIN:VCALENDAR
BEGIN:VEVENT
SUMMARY:Funeral notice for MCCOMISH\, Leo Douglas
DTSTART:20260423T000000
DTEND:20260424T000000
DTSTAMP:20260424T231413Z
UID:6355144
DESCRIPTION:For the Funeral time and location details\, please view the no
 tice on the My Tributes site. (https://www.yarrawongachronicle.com.au/trib
 utes/notice/funeral-notices/mccomish-leo-douglas/6355144/)
END:VEVENT
END:VCALENDAR
