BEGIN:VCALENDAR
BEGIN:VEVENT
SUMMARY:Funeral notice for KUHN\, Irene Beris
DTSTART:20260430T000000
DTEND:20260501T000000
DTSTAMP:20260426T143149Z
UID:6355303
DESCRIPTION:For the Funeral time and location details\, please view the no
 tice on the My Tributes site. (https://www.yarrawongachronicle.com.au/trib
 utes/notice/funeral-notices/kuhn-irene-beris/6355303/)
END:VEVENT
END:VCALENDAR
