BEGIN:VCALENDAR
BEGIN:VEVENT
SUMMARY:Funeral notice for WILSON\, Charles Wesley “Wes”
DTSTART:20260427T000000
DTEND:20260428T000000
DTSTAMP:20260426T054933Z
UID:6355431
DESCRIPTION:For the Funeral time and location details\, please view the no
 tice on the My Tributes site. (https://www.yarrawongachronicle.com.au/trib
 utes/notice/funeral-notices/wilson-charles-wesley-wes/6355431/)
END:VEVENT
END:VCALENDAR
