BEGIN:VCALENDAR
BEGIN:VEVENT
SUMMARY:Funeral notice for TRINDER (NEE VIDLER)\, June Hamilton
DTSTART:20260428T000000
DTEND:20260429T000000
DTSTAMP:20260425T233430Z
UID:6355494
DESCRIPTION:For the Funeral time and location details\, please view the no
 tice on the My Tributes site. (https://www.yarrawongachronicle.com.au/trib
 utes/notice/funeral-notices/trinder-nee-vidler-june-hamilton/6355494/)
END:VEVENT
END:VCALENDAR
