BEGIN:VCALENDAR
BEGIN:VEVENT
SUMMARY:Funeral notice for BANJANIN\, Marko
DTSTART:20260427T000000
DTEND:20260428T000000
DTSTAMP:20260425T215043Z
UID:6355532
DESCRIPTION:For the Funeral time and location details\, please view the no
 tice on the My Tributes site. (https://www.yarrawongachronicle.com.au/trib
 utes/notice/funeral-notices/banjanin-marko/6355532/)
END:VEVENT
END:VCALENDAR
