BEGIN:VCALENDAR
BEGIN:VEVENT
SUMMARY:Funeral notice for BLAMPIED\, Margaret RSJ
DTSTART:20260430T000000
DTEND:20260501T000000
DTSTAMP:20260426T055033Z
UID:6355642
DESCRIPTION:For the Funeral time and location details\, please view the no
 tice on the My Tributes site. (https://www.yarrawongachronicle.com.au/trib
 utes/notice/funeral-notices/blampied-margaret-rsj/6355642/)
END:VEVENT
END:VCALENDAR
