BEGIN:VCALENDAR
BEGIN:VEVENT
SUMMARY:Funeral notice for JABARA\, Anne Gilmour
DTSTART:20260501T000000
DTEND:20260502T000000
DTSTAMP:20260426T102348Z
UID:6355647
DESCRIPTION:For the Funeral time and location details\, please view the no
 tice on the My Tributes site. (https://www.yarrawongachronicle.com.au/trib
 utes/notice/funeral-notices/jabara-anne-gilmour/6355647/)
END:VEVENT
END:VCALENDAR
