BEGIN:VCALENDAR
BEGIN:VEVENT
SUMMARY:Funeral notice for KEATING\, Mary Florence
DTSTART:20260429T000000
DTEND:20260430T000000
DTSTAMP:20260425T120402Z
UID:6355889
DESCRIPTION:For the Funeral time and location details\, please view the no
 tice on the My Tributes site. (https://www.yarrawongachronicle.com.au/trib
 utes/notice/funeral-notices/keating-mary-florence/6355889/)
END:VEVENT
END:VCALENDAR
